BEGIN:VCALENDAR
VERSION:2.0
PRODID:spatie/icalendar-generator
DESCRIPTION:Events from Virginia Knights of Columbus
X-WR-CALDESC:Events from Virginia Knights of Columbus
REFRESH-INTERVAL;VALUE=DURATION:PT1440M
X-PUBLISHED-TTL:PT1440M
BEGIN:VTIMEZONE
TZID:America/New_York
BEGIN:STANDARD
DTSTART:20251102T020000Z
TZOFFSETFROM:-0400
TZOFFSETTO:-0500
END:STANDARD
BEGIN:DAYLIGHT
DTSTART:20260308T020000Z
TZOFFSETFROM:-0500
TZOFFSETTO:-0400
END:DAYLIGHT
END:VTIMEZONE
BEGIN:VTIMEZONE
TZID:UTC
BEGIN:STANDARD
DTSTART:20250724T074249Z
TZOFFSETFROM:+0000
TZOFFSETTO:+0000
END:STANDARD
END:VTIMEZONE
BEGIN:VEVENT
UID:117-84
DTSTAMP:20260420T074249Z
SUMMARY:March Quarterly Meeting
LOCATION:Holy Family Catholic School 14160 Ferndale Road  Woodbridge VA 221
 93-2104
ORGANIZER;CN=Brian Ripple:MAILTO:vaknight562@gmail.com
DTSTART;TZID=America/New_York:20260307T083000
DTEND;TZID=America/New_York:20260307T093000
X-ALT-DESC;FMTTYPE=TEXT/HTML:The March quarterly meeting will be held on Ma
 rch 7\, 2026\, in the gymnasium of Holy Family Catholic School in Woodbrid
 ge. Click here for the meeting package.
CATEGORIES:State Meeting
URL;VALUE=URI:https://vakofc.org/mc-events/march-quarterly-meeting/
METHOD:PUBLISH
END:VEVENT
END:VCALENDAR