BEGIN:VCALENDAR
VERSION:2.0
PRODID:spatie/icalendar-generator
DESCRIPTION:Events from Virginia Knights of Columbus
X-WR-CALDESC:Events from Virginia Knights of Columbus
REFRESH-INTERVAL;VALUE=DURATION:PT1440M
X-PUBLISHED-TTL:PT1440M
BEGIN:VTIMEZONE
TZID:America/New_York
BEGIN:STANDARD
DTSTART:20251102T020000Z
TZOFFSETFROM:-0400
TZOFFSETTO:-0500
END:STANDARD
BEGIN:DAYLIGHT
DTSTART:20260308T020000Z
TZOFFSETFROM:-0500
TZOFFSETTO:-0400
END:DAYLIGHT
END:VTIMEZONE
BEGIN:VTIMEZONE
TZID:UTC
BEGIN:STANDARD
DTSTART:20250724T045827Z
TZOFFSETFROM:+0000
TZOFFSETTO:+0000
END:STANDARD
END:VTIMEZONE
BEGIN:VEVENT
UID:133-98
DTSTAMP:20260420T045827Z
SUMMARY:Future Leader Training
LOCATION:
ORGANIZER;CN=Scott Moffett:MAILTO:scott.moffett@gmail.com
DTSTART;TZID=America/New_York:20260421T190000
DTEND;TZID=America/New_York:20260421T200000
X-ALT-DESC;FMTTYPE=TEXT/HTML:https://us06web.zoom.us/j/87461415325?pwd=x1Us
 iSbpeeae4i1qvwVKdwxa0PDhqS.1 Meeting ID: 874 6141 5325 Passcode: 646296.
CATEGORIES:General
URL;VALUE=URI:https://vakofc.org/mc-events/future-leader-training-2/
METHOD:PUBLISH
END:VEVENT
END:VCALENDAR