BEGIN:VCALENDAR
VERSION:2.0
PRODID:spatie/icalendar-generator
DESCRIPTION:Events from Virginia Knights of Columbus
X-WR-CALDESC:Events from Virginia Knights of Columbus
REFRESH-INTERVAL;VALUE=DURATION:PT1440M
X-PUBLISHED-TTL:PT1440M
BEGIN:VTIMEZONE
TZID:America/New_York
BEGIN:STANDARD
DTSTART:20251102T020000Z
TZOFFSETFROM:-0400
TZOFFSETTO:-0500
END:STANDARD
BEGIN:DAYLIGHT
DTSTART:20260308T020000Z
TZOFFSETFROM:-0500
TZOFFSETTO:-0400
END:DAYLIGHT
END:VTIMEZONE
BEGIN:VTIMEZONE
TZID:UTC
BEGIN:STANDARD
DTSTART:20250724T091831Z
TZOFFSETFROM:+0000
TZOFFSETTO:+0000
END:STANDARD
END:VTIMEZONE
BEGIN:VEVENT
UID:75-50
DTSTAMP:20260420T091831Z
SUMMARY:Free Throw Championship
LOCATION:Benedictine College Preparatory School 12829 River Road  Henrico V
 A 23238-7206
ORGANIZER;CN=Scott Moffett:MAILTO:scott.moffett@gmail.com
DTSTART;TZID=America/New_York:20260321T081500
DTEND;TZID=America/New_York:20260321T091500
X-ALT-DESC;FMTTYPE=TEXT/HTML:
CATEGORIES:State Event
URL;VALUE=URI:https://vakofc.org/mc-events/free-throw-championship/
METHOD:PUBLISH
END:VEVENT
END:VCALENDAR