BEGIN:VCALENDAR
VERSION:2.0
PRODID:spatie/icalendar-generator
DESCRIPTION:Events from Virginia Knights of Columbus
X-WR-CALDESC:Events from Virginia Knights of Columbus
REFRESH-INTERVAL;VALUE=DURATION:PT1440M
X-PUBLISHED-TTL:PT1440M
BEGIN:VTIMEZONE
TZID:America/New_York
BEGIN:DAYLIGHT
DTSTART:20250309T020000Z
TZOFFSETFROM:-0500
TZOFFSETTO:-0400
END:DAYLIGHT
BEGIN:STANDARD
DTSTART:20251102T020000Z
TZOFFSETFROM:-0400
TZOFFSETTO:-0500
END:STANDARD
BEGIN:DAYLIGHT
DTSTART:20260308T020000Z
TZOFFSETFROM:-0500
TZOFFSETTO:-0400
END:DAYLIGHT
END:VTIMEZONE
BEGIN:VTIMEZONE
TZID:UTC
BEGIN:STANDARD
DTSTART:20250728T111752Z
TZOFFSETFROM:+0000
TZOFFSETTO:+0000
END:STANDARD
END:VTIMEZONE
BEGIN:VEVENT
UID:53-32
DTSTAMP:20260424T111752Z
SUMMARY:Exemplification - St. John Bosco #12846 (D14)
LOCATION:St. Raymond of Penafort Catholic Church 8750 Pohick Road  Springfi
 eld VA 22153
ORGANIZER;CN=Scott Moffett:MAILTO:scott.moffett@gmail.com
DTSTART;TZID=America/New_York:20251110T190000
DTEND;TZID=America/New_York:20251110T203000
X-ALT-DESC;FMTTYPE=TEXT/HTML:<p>Rosary will begin at 7:00 pm<br />\nCeremon
 y will begin at 7:30 pm</p>\n
CATEGORIES:Regional Exemplification
URL;VALUE=URI:https://vakofc.org/mc-events/exemplification-st-john-bosco-12
 846-d14/
METHOD:PUBLISH
END:VEVENT
END:VCALENDAR