BEGIN:VCALENDAR
VERSION:2.0
PRODID:spatie/icalendar-generator
DESCRIPTION:Events from Virginia Knights of Columbus
X-WR-CALDESC:Events from Virginia Knights of Columbus
REFRESH-INTERVAL;VALUE=DURATION:PT1440M
X-PUBLISHED-TTL:PT1440M
BEGIN:VTIMEZONE
TZID:America/New_York
BEGIN:DAYLIGHT
DTSTART:20250309T020000Z
TZOFFSETFROM:-0500
TZOFFSETTO:-0400
END:DAYLIGHT
BEGIN:STANDARD
DTSTART:20251102T020000Z
TZOFFSETFROM:-0400
TZOFFSETTO:-0500
END:STANDARD
BEGIN:DAYLIGHT
DTSTART:20260308T020000Z
TZOFFSETFROM:-0500
TZOFFSETTO:-0400
END:DAYLIGHT
END:VTIMEZONE
BEGIN:VTIMEZONE
TZID:UTC
BEGIN:STANDARD
DTSTART:20250724T081130Z
TZOFFSETFROM:+0000
TZOFFSETTO:+0000
END:STANDARD
END:VTIMEZONE
BEGIN:VEVENT
UID:55-34
DTSTAMP:20260420T081130Z
SUMMARY:Exemplification - Fr. Vincent S. Sikora #7992 (D14)
LOCATION:Nativity Catholic Church 6400 Nativity Lane  Burke VA 22015
ORGANIZER;CN=Scott Moffett:MAILTO:scott.moffett@gmail.com
DTSTART;TZID=America/New_York:20251117T190000
DTEND;TZID=America/New_York:20251117T200000
X-ALT-DESC;FMTTYPE=TEXT/HTML:
CATEGORIES:Regional Exemplification
URL;VALUE=URI:https://vakofc.org/mc-events/exemplification-fr-vincent-s-sik
 ora-7992-d14/
METHOD:PUBLISH
END:VEVENT
END:VCALENDAR