BEGIN:VCALENDAR
VERSION:2.0
PRODID:spatie/icalendar-generator
DESCRIPTION:Events from Virginia Knights of Columbus
X-WR-CALDESC:Events from Virginia Knights of Columbus
REFRESH-INTERVAL;VALUE=DURATION:PT1440M
X-PUBLISHED-TTL:PT1440M
BEGIN:VTIMEZONE
TZID:America/New_York
BEGIN:STANDARD
DTSTART:20241103T020000Z
TZOFFSETFROM:-0400
TZOFFSETTO:-0500
END:STANDARD
BEGIN:DAYLIGHT
DTSTART:20250309T020000Z
TZOFFSETFROM:-0500
TZOFFSETTO:-0400
END:DAYLIGHT
BEGIN:STANDARD
DTSTART:20251102T020000Z
TZOFFSETFROM:-0400
TZOFFSETTO:-0500
END:STANDARD
END:VTIMEZONE
BEGIN:VTIMEZONE
TZID:UTC
BEGIN:STANDARD
DTSTART:20250724T121539Z
TZOFFSETFROM:+0000
TZOFFSETTO:+0000
END:STANDARD
END:VTIMEZONE
BEGIN:VEVENT
UID:43-23
DTSTAMP:20260420T121539Z
SUMMARY:2025 Annual Meeting and State Convention
LOCATION:Wyndham Virginia Beach Oceanfront 5700 Atlantic Avenue  Virginia B
 each VA 23451
ORGANIZER;CN=Brian Ripple:MAILTO:vaknight562@gmail.com
DTSTART;TZID=America/New_York;VALUE=DATE:20250502
DTEND;TZID=America/New_York;VALUE=DATE:20250505
X-ALT-DESC;FMTTYPE=TEXT/HTML:The 125th Annual Meeting and State Convention 
 of the Virginia State Council will be held Friday\, May 2\, through Sunday
 \, May 4\, 2025\, at the Wyndham Virginia Beach Oceanfront hotel. Click th
 e Read more link to access all the details\, including the convention regi
 stration form.
CATEGORIES:State Meeting
URL;VALUE=URI:https://vakofc.org/mc-events/2025-annual-meeting-and-state-co
 nvention/
METHOD:PUBLISH
END:VEVENT
END:VCALENDAR