BEGIN:VCALENDAR
VERSION:2.0
PRODID:spatie/icalendar-generator
DESCRIPTION:Events from Virginia Knights of Columbus
X-WR-CALDESC:Events from Virginia Knights of Columbus
REFRESH-INTERVAL;VALUE=DURATION:PT1440M
X-PUBLISHED-TTL:PT1440M
BEGIN:VTIMEZONE
TZID:America/New_York
BEGIN:DAYLIGHT
DTSTART:20250309T020000Z
TZOFFSETFROM:-0500
TZOFFSETTO:-0400
END:DAYLIGHT
BEGIN:STANDARD
DTSTART:20251102T020000Z
TZOFFSETFROM:-0400
TZOFFSETTO:-0500
END:STANDARD
BEGIN:DAYLIGHT
DTSTART:20260308T020000Z
TZOFFSETFROM:-0500
TZOFFSETTO:-0400
END:DAYLIGHT
END:VTIMEZONE
BEGIN:VTIMEZONE
TZID:UTC
BEGIN:STANDARD
DTSTART:20250724T092040Z
TZOFFSETFROM:+0000
TZOFFSETTO:+0000
END:STANDARD
END:VTIMEZONE
BEGIN:VEVENT
UID:51-31
DTSTAMP:20260420T092040Z
SUMMARY:Regional Exemplification - Northeast
LOCATION:St. Elizabeth Ann Seton Church Chapel 12807 Valleywood Drive  Lake
  Ridge VA 22192
ORGANIZER;CN=Brian Ripple:MAILTO:vaknight562@gmail.com
DTSTART;TZID=America/New_York:20250920T100000
DTEND;TZID=America/New_York:20250920T104500
X-ALT-DESC;FMTTYPE=TEXT/HTML:St. Elizabeth Ann Seton Council #8183 will hos
 t the Northeast Regional Combined Exemplification on Saturday\, September 
 20\, 2025\, at Saint Elizabeth Ann Seton Catholic Church\, located at 1280
 7 Valleywood Drive\, Woodbridge\, VA 22192. The Combined Exemplification w
 ill follow the 9:00 a.m. Mass in the Main Church. The Exemplification will
  be in the same building\, but&amp;hellip\;
CATEGORIES:Regional Exemplification
URL;VALUE=URI:https://vakofc.org/mc-events/regional-exemplification-northea
 st/
METHOD:PUBLISH
END:VEVENT
END:VCALENDAR