BEGIN:VCALENDAR
VERSION:2.0
PRODID:spatie/icalendar-generator
DESCRIPTION:Events from Virginia Knights of Columbus
X-WR-CALDESC:Events from Virginia Knights of Columbus
REFRESH-INTERVAL;VALUE=DURATION:PT1440M
X-PUBLISHED-TTL:PT1440M
BEGIN:VTIMEZONE
TZID:America/New_York
BEGIN:DAYLIGHT
DTSTART:20250309T020000Z
TZOFFSETFROM:-0500
TZOFFSETTO:-0400
END:DAYLIGHT
BEGIN:STANDARD
DTSTART:20251102T020000Z
TZOFFSETFROM:-0400
TZOFFSETTO:-0500
END:STANDARD
BEGIN:DAYLIGHT
DTSTART:20260308T020000Z
TZOFFSETFROM:-0500
TZOFFSETTO:-0400
END:DAYLIGHT
END:VTIMEZONE
BEGIN:VTIMEZONE
TZID:UTC
BEGIN:STANDARD
DTSTART:20250728T101125Z
TZOFFSETFROM:+0000
TZOFFSETTO:+0000
END:STANDARD
END:VTIMEZONE
BEGIN:VEVENT
UID:50-30
DTSTAMP:20260424T101125Z
SUMMARY:October Quarterly Meeting
LOCATION:Roanoke #562 Council Home 3136 Harris Street  Roanoke VA 24015
ORGANIZER;CN=Brian Ripple:MAILTO:vaknight562@gmail.com
DTSTART;TZID=America/New_York:20251018T080000
DTEND;TZID=America/New_York:20251018T144500
X-ALT-DESC;FMTTYPE=TEXT/HTML:The Virginia State Council Fall Quarterly Meet
 ing will be held on Saturday\, October 18\, 2025\, both in person and virt
 ually\, and will begin at 8:00 a.m. and end by 2:45.
CATEGORIES:State Meeting
URL;VALUE=URI:https://vakofc.org/mc-events/october-quarterly-meeting/
METHOD:PUBLISH
END:VEVENT
END:VCALENDAR