BEGIN:VCALENDAR
VERSION:2.0
PRODID:spatie/icalendar-generator
DESCRIPTION:Events from Virginia Knights of Columbus
X-WR-CALDESC:Events from Virginia Knights of Columbus
REFRESH-INTERVAL;VALUE=DURATION:PT1440M
X-PUBLISHED-TTL:PT1440M
BEGIN:VTIMEZONE
TZID:America/New_York
BEGIN:DAYLIGHT
DTSTART:20250309T020000Z
TZOFFSETFROM:-0500
TZOFFSETTO:-0400
END:DAYLIGHT
BEGIN:STANDARD
DTSTART:20251102T020000Z
TZOFFSETFROM:-0400
TZOFFSETTO:-0500
END:STANDARD
END:VTIMEZONE
BEGIN:VTIMEZONE
TZID:UTC
BEGIN:STANDARD
DTSTART:20250724T090128Z
TZOFFSETFROM:+0000
TZOFFSETTO:+0000
END:STANDARD
END:VTIMEZONE
BEGIN:VEVENT
UID:49-29
DTSTAMP:20260420T090128Z
SUMMARY:Regional Exemplification - Northwest
LOCATION:George Brent Council Home 9290 Stonewall Road  Manassas Virginia 2
 0110
ORGANIZER;CN=Brian Ripple:MAILTO:vaknight562@gmail.com
DTSTART;TZID=America/New_York:20250823T103000
DTEND;TZID=America/New_York:20250823T113000
X-ALT-DESC;FMTTYPE=TEXT/HTML:The Exemplification of Charity\, Unity\, and F
 raternity for the Northwest region will be held on Saturday\, August 23\, 
 and hosted by George Brent Council #5332. Candidates should arrive no late
 r than 10:30 a.m.\, and the Exemplification will begin at 11:00 a.m. All D
 istrict Deputies in the Northwest region are required to be present. Conta
 ct one&amp;hellip\;
CATEGORIES:Regional Exemplification
URL;VALUE=URI:https://vakofc.org/mc-events/regional-exemplification-northwe
 st/
METHOD:PUBLISH
END:VEVENT
END:VCALENDAR