BEGIN:VCALENDAR
VERSION:2.0
PRODID:spatie/icalendar-generator
DESCRIPTION:Events from Virginia Knights of Columbus
X-WR-CALDESC:Events from Virginia Knights of Columbus
REFRESH-INTERVAL;VALUE=DURATION:PT1440M
X-PUBLISHED-TTL:PT1440M
BEGIN:VTIMEZONE
TZID:America/New_York
BEGIN:STANDARD
DTSTART:20241103T020000Z
TZOFFSETFROM:-0400
TZOFFSETTO:-0500
END:STANDARD
BEGIN:DAYLIGHT
DTSTART:20250309T020000Z
TZOFFSETFROM:-0500
TZOFFSETTO:-0400
END:DAYLIGHT
BEGIN:STANDARD
DTSTART:20251102T020000Z
TZOFFSETFROM:-0400
TZOFFSETTO:-0500
END:STANDARD
END:VTIMEZONE
BEGIN:VTIMEZONE
TZID:UTC
BEGIN:STANDARD
DTSTART:20250724T091831Z
TZOFFSETFROM:+0000
TZOFFSETTO:+0000
END:STANDARD
END:VTIMEZONE
BEGIN:VEVENT
UID:40-19
DTSTAMP:20260420T091831Z
SUMMARY:Family of the Month (Form 10784) Deadline
LOCATION:
ORGANIZER;CN=Brian Ripple:MAILTO:vaknight562@gmail.com
RRULE:FREQ=MONTHLY;BYMONTHDAY=15;UNTIL=20250615T000000Z
DTSTART;TZID=America/New_York:20250515T000000
DTEND;TZID=America/New_York:20250515T010000
X-ALT-DESC;FMTTYPE=TEXT/HTML:The 15th of the month is the deadline for subm
 itting your council's Family of the Month for the previous month to Supr
 eme. Use Form 10784 and select the Family of the Month option.
CATEGORIES:Form/Activity Deadline
URL;VALUE=URI:https://vakofc.org/mc-events/family-of-the-month-form-10784-d
 eadline/?mc_id=40
METHOD:PUBLISH
END:VEVENT
END:VCALENDAR