BEGIN:VCALENDAR
VERSION:2.0
PRODID:spatie/icalendar-generator
DESCRIPTION:Events from Virginia Knights of Columbus
X-WR-CALDESC:Events from Virginia Knights of Columbus
REFRESH-INTERVAL;VALUE=DURATION:PT1440M
X-PUBLISHED-TTL:PT1440M
BEGIN:VTIMEZONE
TZID:America/New_York
BEGIN:STANDARD
DTSTART:20251102T020000Z
TZOFFSETFROM:-0400
TZOFFSETTO:-0500
END:STANDARD
BEGIN:DAYLIGHT
DTSTART:20260308T020000Z
TZOFFSETFROM:-0500
TZOFFSETTO:-0400
END:DAYLIGHT
BEGIN:STANDARD
DTSTART:20261101T020000Z
TZOFFSETFROM:-0400
TZOFFSETTO:-0500
END:STANDARD
END:VTIMEZONE
BEGIN:VTIMEZONE
TZID:UTC
BEGIN:STANDARD
DTSTART:20250724T080552Z
TZOFFSETFROM:+0000
TZOFFSETTO:+0000
END:STANDARD
END:VTIMEZONE
BEGIN:VEVENT
UID:112-81
DTSTAMP:20260420T080552Z
SUMMARY:Exemplification - St. Edward #6546 (D8)
LOCATION:St. Edward Catholic Church 2700 Dolfield Road  North Chesterfield 
 VA 23235
ORGANIZER;CN=Scott Moffett:MAILTO:scott.moffett@gmail.com
DTSTART;TZID=America/New_York:20260504T173000
DTEND;TZID=America/New_York:20260504T190000
X-ALT-DESC;FMTTYPE=TEXT/HTML:
CATEGORIES:Regional Exemplification
URL;VALUE=URI:https://vakofc.org/mc-events/exemplification-st-edward-6546-d
 8-2/
METHOD:PUBLISH
END:VEVENT
END:VCALENDAR